BEGIN:VCALENDAR
VERSION:2.0
PRODID:-//Skip Intro Advisors - ECPv6.15.20//NONSGML v1.0//EN
CALSCALE:GREGORIAN
METHOD:PUBLISH
X-ORIGINAL-URL:https://skipintroadvisors.com
X-WR-CALDESC:Events for Skip Intro Advisors
REFRESH-INTERVAL;VALUE=DURATION:PT1H
X-Robots-Tag:noindex
X-PUBLISHED-TTL:PT1H
BEGIN:VTIMEZONE
TZID:America/Halifax
BEGIN:DAYLIGHT
TZOFFSETFROM:-0400
TZOFFSETTO:-0300
TZNAME:ADT
DTSTART:20200308T060000
END:DAYLIGHT
BEGIN:STANDARD
TZOFFSETFROM:-0300
TZOFFSETTO:-0400
TZNAME:AST
DTSTART:20201101T050000
END:STANDARD
BEGIN:DAYLIGHT
TZOFFSETFROM:-0400
TZOFFSETTO:-0300
TZNAME:ADT
DTSTART:20210314T060000
END:DAYLIGHT
BEGIN:STANDARD
TZOFFSETFROM:-0300
TZOFFSETTO:-0400
TZNAME:AST
DTSTART:20211107T050000
END:STANDARD
BEGIN:DAYLIGHT
TZOFFSETFROM:-0400
TZOFFSETTO:-0300
TZNAME:ADT
DTSTART:20220313T060000
END:DAYLIGHT
BEGIN:STANDARD
TZOFFSETFROM:-0300
TZOFFSETTO:-0400
TZNAME:AST
DTSTART:20221106T050000
END:STANDARD
END:VTIMEZONE
BEGIN:VTIMEZONE
TZID:America/New_York
BEGIN:DAYLIGHT
TZOFFSETFROM:-0500
TZOFFSETTO:-0400
TZNAME:EDT
DTSTART:20200308T070000
END:DAYLIGHT
BEGIN:STANDARD
TZOFFSETFROM:-0400
TZOFFSETTO:-0500
TZNAME:EST
DTSTART:20201101T060000
END:STANDARD
BEGIN:DAYLIGHT
TZOFFSETFROM:-0500
TZOFFSETTO:-0400
TZNAME:EDT
DTSTART:20210314T070000
END:DAYLIGHT
BEGIN:STANDARD
TZOFFSETFROM:-0400
TZOFFSETTO:-0500
TZNAME:EST
DTSTART:20211107T060000
END:STANDARD
BEGIN:DAYLIGHT
TZOFFSETFROM:-0500
TZOFFSETTO:-0400
TZNAME:EDT
DTSTART:20220313T070000
END:DAYLIGHT
BEGIN:STANDARD
TZOFFSETFROM:-0400
TZOFFSETTO:-0500
TZNAME:EST
DTSTART:20221106T060000
END:STANDARD
END:VTIMEZONE
BEGIN:VTIMEZONE
TZID:America/Los_Angeles
BEGIN:DAYLIGHT
TZOFFSETFROM:-0800
TZOFFSETTO:-0700
TZNAME:PDT
DTSTART:20200308T100000
END:DAYLIGHT
BEGIN:STANDARD
TZOFFSETFROM:-0700
TZOFFSETTO:-0800
TZNAME:PST
DTSTART:20201101T090000
END:STANDARD
BEGIN:DAYLIGHT
TZOFFSETFROM:-0800
TZOFFSETTO:-0700
TZNAME:PDT
DTSTART:20210314T100000
END:DAYLIGHT
BEGIN:STANDARD
TZOFFSETFROM:-0700
TZOFFSETTO:-0800
TZNAME:PST
DTSTART:20211107T090000
END:STANDARD
BEGIN:DAYLIGHT
TZOFFSETFROM:-0800
TZOFFSETTO:-0700
TZNAME:PDT
DTSTART:20220313T100000
END:DAYLIGHT
BEGIN:STANDARD
TZOFFSETFROM:-0700
TZOFFSETTO:-0800
TZNAME:PST
DTSTART:20221106T090000
END:STANDARD
END:VTIMEZONE
BEGIN:VEVENT
DTSTART;TZID=America/Halifax:20211104T213000
DTEND;TZID=America/Halifax:20211105T010000
DTSTAMP:20260424T053133
CREATED:20211101T122408Z
LAST-MODIFIED:20211101T122408Z
UID:808-1636061400-1636074000@skipintroadvisors.com
SUMMARY:Honeysuckle's Freedom & CWCBE Afterparty
DESCRIPTION:Join Honeysuckle at Club Cumming\, where we celebrated our first cannabis edition\, now to launch our 12th print issue! Our issue honors FREEDOM\, featuring Damian Marley. This edition dives deep into America’s carceral system and cannabis justice told by those who lived through it. The War on Drugs is an integral part of the Cannabis story and we can’t let anyone forget it. \nJoin us for a spectacular night of live music\, burlesque dancing and infused treats. Bring all of your friends! \nVaccination required. Outside availability. Consumption friendly. \nSpecial thanks to our Presenting Sponsor Etain; and our Honey Sponosrs Chill Steel Pipes\, Skip Intro\, Flowerhire and More!
URL:https://skipintroadvisors.com/event/honeysuckles-freedom-cwcbe-afterparty/
LOCATION:Club Cumming\, 505 East 6th Street\, New York\, NY\, 10009\, United States
CATEGORIES:Party
ATTACH;FMTTYPE=image/jpeg:https://skipintroadvisors.com/wp-content/uploads/2021/11/https-cdn.evbuc_.com-images-176983839-141429491569-1-original.20211030-205518.jpeg
END:VEVENT
BEGIN:VEVENT
DTSTART;VALUE=DATE:20211104
DTEND;VALUE=DATE:20211107
DTSTAMP:20260424T053133
CREATED:20210929T094106Z
LAST-MODIFIED:20211115T233750Z
UID:774-1635984000-1636243199@skipintroadvisors.com
SUMMARY:CWCBExpo - Cannabis World Congress 2021
DESCRIPTION:The Cannabis World Congress & Business Exposition (CWCBExpo) is a business-to-business trade show event for the legalized cannabis industry. It is held in the largest media\, financial\, and business markets. It is the leading forum for dispensary owners\, growers\, suppliers\, investors\, medical professionals\, government regulators\, legal counsel\, and entrepreneurs looking to achieve business success and identify new areas of growth in this dynamic and fast-growing industry. \nSkip Intro Advisors CEO and Co-Founder David Feldman is speaking on a panel entitled “New York: From Illicit into the Light” on November 4.
URL:https://skipintroadvisors.com/event/cwcbexpo-cannabis-world-congress-2021/
LOCATION:Javits Center\, 429 11th Avenue\, New York City\, NY\, 10001\, United States
CATEGORIES:Conference
ATTACH;FMTTYPE=image/jpeg:https://skipintroadvisors.com/wp-content/uploads/2021/09/Visit-Our-Booth-Square.jpg
END:VEVENT
BEGIN:VEVENT
DTSTART;TZID=America/New_York:20211103T190000
DTEND;TZID=America/New_York:20211103T220000
DTSTAMP:20260424T053133
CREATED:20211101T121921Z
LAST-MODIFIED:20211101T121921Z
UID:803-1635966000-1635976800@skipintroadvisors.com
SUMMARY:2021 NORML FORML NYC
DESCRIPTION:Be a part of the 2021 NORML FORML New York City\, a memorable evening in the heart of Cannabis Week. Network and celebrate with activists\, athletes\, politicians\, and industry leaders on the eve of CWCBExpo. Attendees receive a cannabis-themed gift bag. \nWednesday\, November 3 2021 \n7-10PM \nSid Gold’s Request Room\n165 W 26th St\nNew York\, NY 10001 \n\nA medical cannabis art exhibit will be in residence\, with an auction for NORML\nThe convenient outdoor space will be fragrant with the perfumes of personal freedom in the Big Apple\nA program of NORML leaders\, industry figures\, entertainers and sponsors will take to the mic\nMusic and dancing
URL:https://skipintroadvisors.com/event/2021-norml-forml-nyc/
LOCATION:Sid Gold’s Request Room\, 165 W 26th St\, New York\, NY\, 10001\, United States
CATEGORIES:Party
ATTACH;FMTTYPE=image/png:https://skipintroadvisors.com/wp-content/uploads/2021/11/NORML-FORML-NYC-featured.png
END:VEVENT
BEGIN:VEVENT
DTSTART;VALUE=DATE:20211019
DTEND;VALUE=DATE:20211023
DTSTAMP:20260424T053133
CREATED:20210922T143334Z
LAST-MODIFIED:20211115T234057Z
UID:740-1634601600-1634947199@skipintroadvisors.com
SUMMARY:MJBiz Conference 2021
DESCRIPTION:Celebrating its 10th anniversary\, MJBizCon is the award-winning show central to the cannabis and hemp industries’ business year. \nTens of thousands of business leaders\, major private investors\, wholesale cultivators and other professionals attend. More than 1\,000 exhibitors will fill our massive Expo hall. \nMJBizCon is produced by MJBizDaily\, the industry’s most trusted business news publication since 2011.
URL:https://skipintroadvisors.com/event/mjbiz-conference-2021/
LOCATION:Las Vegas Convention Center\, 3150 Paradise Road\, Las Vegas\, NV\, 89109\, United States
CATEGORIES:Conference
ATTACH;FMTTYPE=image/jpeg:https://skipintroadvisors.com/wp-content/uploads/2021/09/191212-140143-JCC-2-1.jpg
ORGANIZER;CN="MJBizDaily":MAILTO:CustomerService@MJBiz.com
END:VEVENT
BEGIN:VEVENT
DTSTART;VALUE=DATE:20211014
DTEND;VALUE=DATE:20211016
DTSTAMP:20260424T053133
CREATED:20210929T093204Z
LAST-MODIFIED:20211115T233543Z
UID:768-1634169600-1634342399@skipintroadvisors.com
SUMMARY:Benzinga Capital Cannabis Conference
DESCRIPTION:The premier gathering of Cannabis Entrepreneurs and investors in North America. No other conference offers the level of access and seamlessness of interaction between entrepreneurs building future billion-dollar cannabis enterprises and the investors whose capital will make that happen. \nSkip Intro Advisors CEO and Co-Founder David Feldman is speaking on a panel concerning legalization in the New York\, New Jersey and Connecticut markets on October 14 at 4:25pm.
URL:https://skipintroadvisors.com/event/benzinga-capital-2021/
LOCATION:Marriott Marquis\, 1535 Broadway\, New York City\, NY\, 10036\, United States
CATEGORIES:Conference
ATTACH;FMTTYPE=image/png:https://skipintroadvisors.com/wp-content/uploads/2021/09/logo-2.png
END:VEVENT
END:VCALENDAR