BEGIN:VCALENDAR
VERSION:2.0
PRODID:-//Skip Intro Advisors - ECPv6.15.20//NONSGML v1.0//EN
CALSCALE:GREGORIAN
METHOD:PUBLISH
X-WR-CALNAME:Skip Intro Advisors
X-ORIGINAL-URL:https://skipintroadvisors.com
X-WR-CALDESC:Events for Skip Intro Advisors
REFRESH-INTERVAL;VALUE=DURATION:PT1H
X-Robots-Tag:noindex
X-PUBLISHED-TTL:PT1H
BEGIN:VTIMEZONE
TZID:America/New_York
BEGIN:DAYLIGHT
TZOFFSETFROM:-0500
TZOFFSETTO:-0400
TZNAME:EDT
DTSTART:20200308T070000
END:DAYLIGHT
BEGIN:STANDARD
TZOFFSETFROM:-0400
TZOFFSETTO:-0500
TZNAME:EST
DTSTART:20201101T060000
END:STANDARD
BEGIN:DAYLIGHT
TZOFFSETFROM:-0500
TZOFFSETTO:-0400
TZNAME:EDT
DTSTART:20210314T070000
END:DAYLIGHT
BEGIN:STANDARD
TZOFFSETFROM:-0400
TZOFFSETTO:-0500
TZNAME:EST
DTSTART:20211107T060000
END:STANDARD
BEGIN:DAYLIGHT
TZOFFSETFROM:-0500
TZOFFSETTO:-0400
TZNAME:EDT
DTSTART:20220313T070000
END:DAYLIGHT
BEGIN:STANDARD
TZOFFSETFROM:-0400
TZOFFSETTO:-0500
TZNAME:EST
DTSTART:20221106T060000
END:STANDARD
BEGIN:DAYLIGHT
TZOFFSETFROM:-0500
TZOFFSETTO:-0400
TZNAME:EDT
DTSTART:20230312T070000
END:DAYLIGHT
BEGIN:STANDARD
TZOFFSETFROM:-0400
TZOFFSETTO:-0500
TZNAME:EST
DTSTART:20231105T060000
END:STANDARD
END:VTIMEZONE
BEGIN:VTIMEZONE
TZID:America/Halifax
BEGIN:DAYLIGHT
TZOFFSETFROM:-0400
TZOFFSETTO:-0300
TZNAME:ADT
DTSTART:20200308T060000
END:DAYLIGHT
BEGIN:STANDARD
TZOFFSETFROM:-0300
TZOFFSETTO:-0400
TZNAME:AST
DTSTART:20201101T050000
END:STANDARD
BEGIN:DAYLIGHT
TZOFFSETFROM:-0400
TZOFFSETTO:-0300
TZNAME:ADT
DTSTART:20210314T060000
END:DAYLIGHT
BEGIN:STANDARD
TZOFFSETFROM:-0300
TZOFFSETTO:-0400
TZNAME:AST
DTSTART:20211107T050000
END:STANDARD
BEGIN:DAYLIGHT
TZOFFSETFROM:-0400
TZOFFSETTO:-0300
TZNAME:ADT
DTSTART:20220313T060000
END:DAYLIGHT
BEGIN:STANDARD
TZOFFSETFROM:-0300
TZOFFSETTO:-0400
TZNAME:AST
DTSTART:20221106T050000
END:STANDARD
BEGIN:DAYLIGHT
TZOFFSETFROM:-0400
TZOFFSETTO:-0300
TZNAME:ADT
DTSTART:20230312T060000
END:DAYLIGHT
BEGIN:STANDARD
TZOFFSETFROM:-0300
TZOFFSETTO:-0400
TZNAME:AST
DTSTART:20231105T050000
END:STANDARD
END:VTIMEZONE
BEGIN:VTIMEZONE
TZID:America/Los_Angeles
BEGIN:DAYLIGHT
TZOFFSETFROM:-0800
TZOFFSETTO:-0700
TZNAME:PDT
DTSTART:20200308T100000
END:DAYLIGHT
BEGIN:STANDARD
TZOFFSETFROM:-0700
TZOFFSETTO:-0800
TZNAME:PST
DTSTART:20201101T090000
END:STANDARD
BEGIN:DAYLIGHT
TZOFFSETFROM:-0800
TZOFFSETTO:-0700
TZNAME:PDT
DTSTART:20210314T100000
END:DAYLIGHT
BEGIN:STANDARD
TZOFFSETFROM:-0700
TZOFFSETTO:-0800
TZNAME:PST
DTSTART:20211107T090000
END:STANDARD
BEGIN:DAYLIGHT
TZOFFSETFROM:-0800
TZOFFSETTO:-0700
TZNAME:PDT
DTSTART:20220313T100000
END:DAYLIGHT
BEGIN:STANDARD
TZOFFSETFROM:-0700
TZOFFSETTO:-0800
TZNAME:PST
DTSTART:20221106T090000
END:STANDARD
END:VTIMEZONE
BEGIN:VEVENT
DTSTART;VALUE=DATE:20220420
DTEND;VALUE=DATE:20220422
DTSTAMP:20260424T025438
CREATED:20220209T205811Z
LAST-MODIFIED:20220401T155528Z
UID:881-1650412800-1650585599@skipintroadvisors.com
SUMMARY:Benzinga Cannabis Capital Conference
DESCRIPTION:The premier gathering of cannabis entrepreneurs and investors in North America returns to the Fontainebleau Miami Beach for a 2-Day Hybrid Event on April 20-21\, 2022. \nThis is THE place to meet & share ideas with cannabis industry professionals & market leaders! \nBenzinga’s expansive cannabis network includes some of the BIGGEST names in cannabis & other cream-of-the-crop business leaders. \nThis year\, there will be EVEN MORE ways to connect with other conference-goers\, including an exclusive VIP Lounge\, private 1:1 meeting booths\, and unforgettable activities and outings you’ll want to write home about. \nOur CEO David Feldman will be moderating a panel on access to the industry at this event.
URL:https://skipintroadvisors.com/event/benzinga-cannabis-capital-conference/
LOCATION:Fontainebleau Miami Beach\, 4441 Collins Ave\, Miami Beach\, FL\, 33140\, United States
CATEGORIES:Conference
ATTACH;FMTTYPE=image/png:https://skipintroadvisors.com/wp-content/uploads/2021/09/logo-2.png
END:VEVENT
BEGIN:VEVENT
DTSTART;TZID=America/New_York:20220402T130000
DTEND;TZID=America/New_York:20220402T200000
DTSTAMP:20260424T025438
CREATED:20220314T161317Z
LAST-MODIFIED:20220401T155600Z
UID:894-1648904400-1648929600@skipintroadvisors.com
SUMMARY:Palm Beach Cannabis Expo
DESCRIPTION:CanXpo is an annual trade show which began in 2018 and provides an opportunity for key players in the emerging cannabis industry to showcase their products and services including investment opportunities. \nCanXpo is designed to educate potential investors and industry professionals. Cannabis Expo has highlighted how active and progressive the Northeast is becoming towards the marijuana industry and accepted in the wider community\, along with the health and wellness benefits. \nOur CEO David Feldman is moderating a panel on Florida cannabis regulation at this event.
URL:https://skipintroadvisors.com/event/palm-beach-cannabis-expo/
LOCATION:FL
CATEGORIES:Conference
ATTACH;FMTTYPE=image/jpeg:https://skipintroadvisors.com/wp-content/uploads/2022/03/PALM-BEACH-CANNABIS-EXPO-2022-LOGO.jpg
END:VEVENT
BEGIN:VEVENT
DTSTART;TZID=America/New_York:20220208T190000
DTEND;TZID=America/New_York:20220208T220000
DTSTAMP:20260424T025438
CREATED:20220209T204058Z
LAST-MODIFIED:20220209T204058Z
UID:873-1644346800-1644357600@skipintroadvisors.com
SUMMARY:Soho Beach House Psychedelic Series
DESCRIPTION:Dustin Robinson\, Esq. CPA\, to Host Monthly Psychedelic Series at Soho Beach House Miami on Feb. 8 \n\n\nOn Tuesday\, February 8 at 7 p.m.\, Dustin Robinson\, Esq. CPA\, will present his monthly Psychedelic Series at Soho Beach House Miami. Moderated by Robinson\, the panel will feature Evan Levine\, CEO of PsyBio Therapeutics Corp.; Courtney Barnes\, Esq.\, founding partner of Barnes Caplan\, LLP; and Kaia Roman\, bestselling author and psychedelic entrepreneur.
URL:https://skipintroadvisors.com/event/soho-beach-house-psychedelic-series/
LOCATION:Soho Beach House Miami\, 4385 Collins Ave\, Miami Beach\, FL\, 33140\, United States
CATEGORIES:Private Event
ATTACH;FMTTYPE=image/png:https://skipintroadvisors.com/wp-content/uploads/2022/02/header-logo-1.png
END:VEVENT
BEGIN:VEVENT
DTSTART;VALUE=DATE:20220205
DTEND;VALUE=DATE:20220207
DTSTAMP:20260424T025438
CREATED:20220209T203420Z
LAST-MODIFIED:20220209T203420Z
UID:869-1644019200-1644191999@skipintroadvisors.com
SUMMARY:Cannadelic Conference Miami
DESCRIPTION:Cannabis & Psychedelics in one unprecedented event: business\, lifestyle\, science\, careers & more. \n\n\n\n\nCannadelic Miami is a 2-day conference and expo that fully integrates the two for professionals and consumers. A massive expo hall with feature 150+ exhibitors. Two session halls will feature 40+ speakers and panels tackling topics from new licenses coming to Florida to modern day shamanism and everyday microdosing.
URL:https://skipintroadvisors.com/event/cannadelic-conference-miami/
LOCATION:Miami Airport Convention Center\, 711 NW 72nd Ave\, Miami\, FL\, 33126\, United States
CATEGORIES:Conference
ATTACH;FMTTYPE=image/png:https://skipintroadvisors.com/wp-content/uploads/2022/02/Cannadeliclogonew.png
END:VEVENT
BEGIN:VEVENT
DTSTART;TZID=America/Halifax:20220202T083000
DTEND;TZID=America/Halifax:20220202T183000
DTSTAMP:20260424T025438
CREATED:20211115T231932Z
LAST-MODIFIED:20211115T231932Z
UID:827-1643790600-1643826600@skipintroadvisors.com
SUMMARY:Cannabis Private Investment Summit Florida
DESCRIPTION:Kahner Global specializes in curating high-level investor conferences\, webinars\, and private events. The Cannabis Private Investment Summits were launched in 2015 as the very first conferences exclusively for family offices in the cannabis industry.  Since then\, the summits have evolved as the premier highly curated summits for institutional investors\, family offices and ultra high-net-worth investors. Hosted annually in New York City\, San Francisco\, Toronto\, Fort Lauderdale\, Beverly Hills and London\, the summits provide a highly tailored\, unique and intimate conference experience that brings an optimal deal flow to its audience of investors and entrepreneurs. \nCEO David Feldman will be speaking at the Summit this February.
URL:https://skipintroadvisors.com/event/cannabis-private-investment-summit-florida/
LOCATION:FL
CATEGORIES:Private Event
ATTACH;FMTTYPE=image/jpeg:https://skipintroadvisors.com/wp-content/uploads/2021/11/668b80_d3d96f2a8bf6499f8d570ae994ad9a8amv2.jpg
END:VEVENT
BEGIN:VEVENT
DTSTART;TZID=America/Halifax:20211209T190000
DTEND;TZID=America/Halifax:20211209T220000
DTSTAMP:20260424T025438
CREATED:20211117T165058Z
LAST-MODIFIED:20211117T165205Z
UID:843-1639076400-1639087200@skipintroadvisors.com
SUMMARY:Business of Cannabis: New York Sessions
DESCRIPTION:Business of Cannabis is North America’s authoritative source for news and analysis of the cannabis industry. Following up on September 2021’s Business of Cannabis: New York event\, Business of Cannabis: New York Session is an ongoing series hosted by Business of Cannabis to dive deep into the ongoing social\, regulatory and business implications and opportunities in New York’s emerging cannabis industry. \nHosted at The Williamsburg Hotel – the Official Home of Business of Cannabis in New York – the events will include can’t-miss programming and important networking opportunities for those driving the sector forward in New York. \nLearn more about Business of Cannabis at businessofcannabis.com \nSkip Intro will be attending.
URL:https://skipintroadvisors.com/event/business-of-cannabis-new-york-sessions/
LOCATION:The Williamsburg Hotel\, 96 Wythe Avenue\, Brooklyn\, 11249\, United States
CATEGORIES:Conference
ATTACH;FMTTYPE=image/jpeg:https://skipintroadvisors.com/wp-content/uploads/2021/11/https-cdn.evbuc_.com-images-168663619-252801649373-1-original.20211017-205548.jpeg
END:VEVENT
BEGIN:VEVENT
DTSTART;TZID=America/Halifax:20211207T190000
DTEND;TZID=America/Halifax:20211207T203000
DTSTAMP:20260424T025438
CREATED:20211201T002306Z
LAST-MODIFIED:20211201T002306Z
UID:857-1638903600-1638909000@skipintroadvisors.com
SUMMARY:Asian Cannabis Roundtable
DESCRIPTION:The Asian Cannabis Roundtable (ACR) advocates for the best interests of people of Asian descent working in the cannabis sector and its supporting industries. Toward this goal\, ACR engages in education\, networking\, public policy advocacy\, and the provision of support and resources to members and communities. We recognize and welcome the diversity of Asians\, nationally\, internationally\, and across all diasporas. \nSkip Intro Real Estate Advisor Kristin Jordan will be speaking as part of the event.
URL:https://skipintroadvisors.com/event/asian-cannabis-roundtable/
LOCATION:FL
CATEGORIES:Conference
ATTACH;FMTTYPE=image/jpeg:https://skipintroadvisors.com/wp-content/uploads/2021/11/Image.jpeg
END:VEVENT
BEGIN:VEVENT
DTSTART;VALUE=DATE:20211108
DTEND;VALUE=DATE:20211110
DTSTAMP:20260424T025438
CREATED:20210929T091807Z
LAST-MODIFIED:20210929T091807Z
UID:763-1636329600-1636502399@skipintroadvisors.com
SUMMARY:Wonderland: Miami
DESCRIPTION:Wonderland: Miami will bring together an impressive group of global psychedelic medicine leaders\, including scientists and researchers\, investors and entrepreneurs\, therapists and patients\, government officials and media\, all championing the growth of the psychedelic medicine industry. \nAfter a successful year of over 20 industry-leading virtual conferences\, including Psychedelic Capital and the Molecular Masterclass series\, Wonderland: Miami will offer the industry a unique in-person convergence of business\, science\, music\, and emerging technologies. Fostering creative and professional growth\, Wonderland: Miami is the premier destination for the psychedelic industry. The event is a thought-leadership platform and an opportunity to connect with influential leaders in science\, policy\, and business. It will also act as a launching pad for innovative content connected to the psychedelic medicine space\, with musical showcases and documentary screenings\, providing compelling entertainment and collaboration opportunities for attendees.
URL:https://skipintroadvisors.com/event/wonderland-miami/
LOCATION:Adrienne Arsht Center for the Performing Arts\, 1300 Biscayne Blvd\, Miami\, FL\, 33132\, United States
CATEGORIES:Conference
ATTACH;FMTTYPE=image/jpeg:https://skipintroadvisors.com/wp-content/uploads/2021/09/Screen-Shot-2021-09-16-at-9.56-compressed-min.jpg
END:VEVENT
BEGIN:VEVENT
DTSTART;TZID=America/Halifax:20211104T213000
DTEND;TZID=America/Halifax:20211105T010000
DTSTAMP:20260424T025438
CREATED:20211101T122408Z
LAST-MODIFIED:20211101T122408Z
UID:808-1636061400-1636074000@skipintroadvisors.com
SUMMARY:Honeysuckle's Freedom & CWCBE Afterparty
DESCRIPTION:Join Honeysuckle at Club Cumming\, where we celebrated our first cannabis edition\, now to launch our 12th print issue! Our issue honors FREEDOM\, featuring Damian Marley. This edition dives deep into America’s carceral system and cannabis justice told by those who lived through it. The War on Drugs is an integral part of the Cannabis story and we can’t let anyone forget it. \nJoin us for a spectacular night of live music\, burlesque dancing and infused treats. Bring all of your friends! \nVaccination required. Outside availability. Consumption friendly. \nSpecial thanks to our Presenting Sponsor Etain; and our Honey Sponosrs Chill Steel Pipes\, Skip Intro\, Flowerhire and More!
URL:https://skipintroadvisors.com/event/honeysuckles-freedom-cwcbe-afterparty/
LOCATION:Club Cumming\, 505 East 6th Street\, New York\, NY\, 10009\, United States
CATEGORIES:Party
ATTACH;FMTTYPE=image/jpeg:https://skipintroadvisors.com/wp-content/uploads/2021/11/https-cdn.evbuc_.com-images-176983839-141429491569-1-original.20211030-205518.jpeg
END:VEVENT
BEGIN:VEVENT
DTSTART;VALUE=DATE:20211104
DTEND;VALUE=DATE:20211107
DTSTAMP:20260424T025438
CREATED:20210929T094106Z
LAST-MODIFIED:20211115T233750Z
UID:774-1635984000-1636243199@skipintroadvisors.com
SUMMARY:CWCBExpo - Cannabis World Congress 2021
DESCRIPTION:The Cannabis World Congress & Business Exposition (CWCBExpo) is a business-to-business trade show event for the legalized cannabis industry. It is held in the largest media\, financial\, and business markets. It is the leading forum for dispensary owners\, growers\, suppliers\, investors\, medical professionals\, government regulators\, legal counsel\, and entrepreneurs looking to achieve business success and identify new areas of growth in this dynamic and fast-growing industry. \nSkip Intro Advisors CEO and Co-Founder David Feldman is speaking on a panel entitled “New York: From Illicit into the Light” on November 4.
URL:https://skipintroadvisors.com/event/cwcbexpo-cannabis-world-congress-2021/
LOCATION:Javits Center\, 429 11th Avenue\, New York City\, NY\, 10001\, United States
CATEGORIES:Conference
ATTACH;FMTTYPE=image/jpeg:https://skipintroadvisors.com/wp-content/uploads/2021/09/Visit-Our-Booth-Square.jpg
END:VEVENT
BEGIN:VEVENT
DTSTART;TZID=America/New_York:20211103T190000
DTEND;TZID=America/New_York:20211103T220000
DTSTAMP:20260424T025438
CREATED:20211101T121921Z
LAST-MODIFIED:20211101T121921Z
UID:803-1635966000-1635976800@skipintroadvisors.com
SUMMARY:2021 NORML FORML NYC
DESCRIPTION:Be a part of the 2021 NORML FORML New York City\, a memorable evening in the heart of Cannabis Week. Network and celebrate with activists\, athletes\, politicians\, and industry leaders on the eve of CWCBExpo. Attendees receive a cannabis-themed gift bag. \nWednesday\, November 3 2021 \n7-10PM \nSid Gold’s Request Room\n165 W 26th St\nNew York\, NY 10001 \n\nA medical cannabis art exhibit will be in residence\, with an auction for NORML\nThe convenient outdoor space will be fragrant with the perfumes of personal freedom in the Big Apple\nA program of NORML leaders\, industry figures\, entertainers and sponsors will take to the mic\nMusic and dancing
URL:https://skipintroadvisors.com/event/2021-norml-forml-nyc/
LOCATION:Sid Gold’s Request Room\, 165 W 26th St\, New York\, NY\, 10001\, United States
CATEGORIES:Party
ATTACH;FMTTYPE=image/png:https://skipintroadvisors.com/wp-content/uploads/2021/11/NORML-FORML-NYC-featured.png
END:VEVENT
BEGIN:VEVENT
DTSTART;VALUE=DATE:20211019
DTEND;VALUE=DATE:20211023
DTSTAMP:20260424T025438
CREATED:20210922T143334Z
LAST-MODIFIED:20211115T234057Z
UID:740-1634601600-1634947199@skipintroadvisors.com
SUMMARY:MJBiz Conference 2021
DESCRIPTION:Celebrating its 10th anniversary\, MJBizCon is the award-winning show central to the cannabis and hemp industries’ business year. \nTens of thousands of business leaders\, major private investors\, wholesale cultivators and other professionals attend. More than 1\,000 exhibitors will fill our massive Expo hall. \nMJBizCon is produced by MJBizDaily\, the industry’s most trusted business news publication since 2011.
URL:https://skipintroadvisors.com/event/mjbiz-conference-2021/
LOCATION:Las Vegas Convention Center\, 3150 Paradise Road\, Las Vegas\, NV\, 89109\, United States
CATEGORIES:Conference
ATTACH;FMTTYPE=image/jpeg:https://skipintroadvisors.com/wp-content/uploads/2021/09/191212-140143-JCC-2-1.jpg
ORGANIZER;CN="MJBizDaily":MAILTO:CustomerService@MJBiz.com
END:VEVENT
BEGIN:VEVENT
DTSTART;VALUE=DATE:20211014
DTEND;VALUE=DATE:20211016
DTSTAMP:20260424T025438
CREATED:20210929T093204Z
LAST-MODIFIED:20211115T233543Z
UID:768-1634169600-1634342399@skipintroadvisors.com
SUMMARY:Benzinga Capital Cannabis Conference
DESCRIPTION:The premier gathering of Cannabis Entrepreneurs and investors in North America. No other conference offers the level of access and seamlessness of interaction between entrepreneurs building future billion-dollar cannabis enterprises and the investors whose capital will make that happen. \nSkip Intro Advisors CEO and Co-Founder David Feldman is speaking on a panel concerning legalization in the New York\, New Jersey and Connecticut markets on October 14 at 4:25pm.
URL:https://skipintroadvisors.com/event/benzinga-capital-2021/
LOCATION:Marriott Marquis\, 1535 Broadway\, New York City\, NY\, 10036\, United States
CATEGORIES:Conference
ATTACH;FMTTYPE=image/png:https://skipintroadvisors.com/wp-content/uploads/2021/09/logo-2.png
END:VEVENT
END:VCALENDAR