BEGIN:VCALENDAR
VERSION:2.0
PRODID:-//Skip Intro Advisors - ECPv6.15.20//NONSGML v1.0//EN
CALSCALE:GREGORIAN
METHOD:PUBLISH
X-ORIGINAL-URL:https://skipintroadvisors.com
X-WR-CALDESC:Events for Skip Intro Advisors
REFRESH-INTERVAL;VALUE=DURATION:PT1H
X-Robots-Tag:noindex
X-PUBLISHED-TTL:PT1H
BEGIN:VTIMEZONE
TZID:America/New_York
BEGIN:DAYLIGHT
TZOFFSETFROM:-0500
TZOFFSETTO:-0400
TZNAME:EDT
DTSTART:20220313T070000
END:DAYLIGHT
BEGIN:STANDARD
TZOFFSETFROM:-0400
TZOFFSETTO:-0500
TZNAME:EST
DTSTART:20221106T060000
END:STANDARD
BEGIN:DAYLIGHT
TZOFFSETFROM:-0500
TZOFFSETTO:-0400
TZNAME:EDT
DTSTART:20230312T070000
END:DAYLIGHT
BEGIN:STANDARD
TZOFFSETFROM:-0400
TZOFFSETTO:-0500
TZNAME:EST
DTSTART:20231105T060000
END:STANDARD
BEGIN:DAYLIGHT
TZOFFSETFROM:-0500
TZOFFSETTO:-0400
TZNAME:EDT
DTSTART:20240310T070000
END:DAYLIGHT
BEGIN:STANDARD
TZOFFSETFROM:-0400
TZOFFSETTO:-0500
TZNAME:EST
DTSTART:20241103T060000
END:STANDARD
BEGIN:DAYLIGHT
TZOFFSETFROM:-0500
TZOFFSETTO:-0400
TZNAME:EDT
DTSTART:20250309T070000
END:DAYLIGHT
BEGIN:STANDARD
TZOFFSETFROM:-0400
TZOFFSETTO:-0500
TZNAME:EST
DTSTART:20251102T060000
END:STANDARD
END:VTIMEZONE
BEGIN:VTIMEZONE
TZID:America/Chicago
BEGIN:DAYLIGHT
TZOFFSETFROM:-0600
TZOFFSETTO:-0500
TZNAME:CDT
DTSTART:20220313T080000
END:DAYLIGHT
BEGIN:STANDARD
TZOFFSETFROM:-0500
TZOFFSETTO:-0600
TZNAME:CST
DTSTART:20221106T070000
END:STANDARD
BEGIN:DAYLIGHT
TZOFFSETFROM:-0600
TZOFFSETTO:-0500
TZNAME:CDT
DTSTART:20230312T080000
END:DAYLIGHT
BEGIN:STANDARD
TZOFFSETFROM:-0500
TZOFFSETTO:-0600
TZNAME:CST
DTSTART:20231105T070000
END:STANDARD
BEGIN:DAYLIGHT
TZOFFSETFROM:-0600
TZOFFSETTO:-0500
TZNAME:CDT
DTSTART:20240310T080000
END:DAYLIGHT
BEGIN:STANDARD
TZOFFSETFROM:-0500
TZOFFSETTO:-0600
TZNAME:CST
DTSTART:20241103T070000
END:STANDARD
END:VTIMEZONE
BEGIN:VTIMEZONE
TZID:America/Los_Angeles
BEGIN:DAYLIGHT
TZOFFSETFROM:-0800
TZOFFSETTO:-0700
TZNAME:PDT
DTSTART:20220313T100000
END:DAYLIGHT
BEGIN:STANDARD
TZOFFSETFROM:-0700
TZOFFSETTO:-0800
TZNAME:PST
DTSTART:20221106T090000
END:STANDARD
BEGIN:DAYLIGHT
TZOFFSETFROM:-0800
TZOFFSETTO:-0700
TZNAME:PDT
DTSTART:20230312T100000
END:DAYLIGHT
BEGIN:STANDARD
TZOFFSETFROM:-0700
TZOFFSETTO:-0800
TZNAME:PST
DTSTART:20231105T090000
END:STANDARD
BEGIN:DAYLIGHT
TZOFFSETFROM:-0800
TZOFFSETTO:-0700
TZNAME:PDT
DTSTART:20240310T100000
END:DAYLIGHT
BEGIN:STANDARD
TZOFFSETFROM:-0700
TZOFFSETTO:-0800
TZNAME:PST
DTSTART:20241103T090000
END:STANDARD
END:VTIMEZONE
BEGIN:VEVENT
DTSTART;VALUE=DATE:20240420
DTEND;VALUE=DATE:20240421
DTSTAMP:20260423T163419
CREATED:20240229T185912Z
LAST-MODIFIED:20240329T165114Z
UID:1792-1713571200-1713657599@skipintroadvisors.com
SUMMARY:National Cannabis Festival
DESCRIPTION:The National Cannabis Festival is a music festival that was created in 2015 to celebrate the progress on marijuana legalization in Washington\, DC and across the nation. The founders envisioned a festival recognizing the spirit of the cannabis movement and the non-profit groups that have fought for so long to end marijuana prohibition. Headlining artists have included 2 Chainz\, Action Bronson\, Free Nationals\, Cypress Hill\, Wiz Khalifa\, and more. Scheril Murray Powell\, counsel to Feldman Legal Advisors\, will be speaking on a panel at the festival: “Beware of predatory practices: negotiation tips and tricks for cannabis industry professionals.”
URL:https://skipintroadvisors.com/event/national-cannabis-festival/
CATEGORIES:Speaking
END:VEVENT
BEGIN:VEVENT
DTSTART;TZID=America/New_York:20240330T123000
DTEND;TZID=America/New_York:20240330T163000
DTSTAMP:20260423T163420
CREATED:20240229T193246Z
LAST-MODIFIED:20240229T193246Z
UID:1799-1711801800-1711816200@skipintroadvisors.com
SUMMARY:Functional Fungi Educational Symposium
DESCRIPTION:Scheril Murray Powell\, counsel to Feldman Legal Advisors\, will be speaking at the Functional Fungi Educational Symposium on March 30\, 2024 in Newark\, New Jersey at the Newark Conservancy.
URL:https://skipintroadvisors.com/event/functional-fungi-educational-symposium/
LOCATION:Newark Conservancy
CATEGORIES:Conference,Speaking
END:VEVENT
BEGIN:VEVENT
DTSTART;TZID=America/New_York:20240312T100000
DTEND;TZID=America/New_York:20240312T110000
DTSTAMP:20260423T163420
CREATED:20240229T185005Z
LAST-MODIFIED:20240229T185005Z
UID:1785-1710237600-1710241200@skipintroadvisors.com
SUMMARY:South by Southwest
DESCRIPTION:Scheril Murray Powell\, Esq. will be attending SXSW on March 12\, 2024. She will be a featured speaker during the session\, “The Highs and Lows of Cannabis Regulation\,” at the Austin Convention Center in room 8ABC at 10:00 AM.
URL:https://skipintroadvisors.com/event/south-by-southwest/
CATEGORIES:Conference,Speaking
END:VEVENT
BEGIN:VEVENT
DTSTART;VALUE=DATE:20231004
DTEND;VALUE=DATE:20231007
DTSTAMP:20260423T163420
CREATED:20230628T113545Z
LAST-MODIFIED:20230628T113545Z
UID:1586-1696377600-1696636799@skipintroadvisors.com
SUMMARY:Trailblazers Ojai '23
DESCRIPTION:Enjoy the natural beauty of Ojai surrounded by wilderness\, each day will be filled with hiking and biking trails\, world-class speakers\, emerging musical talent\, golf\, workshops\, spa services\, an incredible group of leaders to connect with\, and much more. Trailblazers Ojai offers thoughtfully curated content and programming amidst the serene landscape as a backdrop. You’ll move and be moved through a unique and powerful connection to nature\, exhilarating adventures\, deep relaxation\, and inspiring conversations. \nSkip Intro Advisors’ Courtney Barnes will be speaking.
URL:https://skipintroadvisors.com/event/trailblazers-ojai-23/
CATEGORIES:Conference,Speaking
ATTACH;FMTTYPE=image/png:https://skipintroadvisors.com/wp-content/uploads/2023/06/Trailblazers_Vector_Logo_Blk_11.png
END:VEVENT
BEGIN:VEVENT
DTSTART;VALUE=DATE:20230927
DTEND;VALUE=DATE:20230929
DTSTAMP:20260423T163420
CREATED:20230628T113135Z
LAST-MODIFIED:20230628T113135Z
UID:1584-1695772800-1695945599@skipintroadvisors.com
SUMMARY:Benzinga Cannabis Capital Conference: Fall 2023
DESCRIPTION:Meet the biggest cannabis industry players and make deals that will push the industry forward. \nFeaturing live company presentations\, insider panels\, and unmatched access to networking\, the Benzinga Cannabis Capital Conference is where cannabis executives and entrepreneurs meet. \nJoin us live or tune in from anywhere using our hybrid event software. There’s no better place to connect with the people driving the global cannabis industry forward. \nDavid Feldman will be speaking at this event.
URL:https://skipintroadvisors.com/event/benzinga-cannabis-capital-conference-fall-2023/
CATEGORIES:Conference,Speaking
ATTACH;FMTTYPE=image/png:https://skipintroadvisors.com/wp-content/uploads/2021/09/logo-2.png
END:VEVENT
BEGIN:VEVENT
DTSTART;VALUE=DATE:20230803
DTEND;VALUE=DATE:20230804
DTSTAMP:20260423T163420
CREATED:20230630T163953Z
LAST-MODIFIED:20230630T164135Z
UID:1595-1691020800-1691107199@skipintroadvisors.com
SUMMARY:Green Market Report FINANCE SUMMIT
DESCRIPTION:Skip Intro Advisors’ CEO David Feldman will be speaking.
URL:https://skipintroadvisors.com/event/green-market-report-finance-summit/
CATEGORIES:Conference,Speaking
ATTACH;FMTTYPE=image/jpeg:https://skipintroadvisors.com/wp-content/uploads/2023/06/2b72908f7d81431fbf85498abf872646_10ddceb538651508cd0f708fcbd914fb.jpg-copy.jpg
END:VEVENT
BEGIN:VEVENT
DTSTART;TZID=America/Chicago:20230801T090000
DTEND;TZID=America/Chicago:20230801T170000
DTSTAMP:20260423T163420
CREATED:20230116T182225Z
LAST-MODIFIED:20230606T092122Z
UID:1520-1690880400-1690909200@skipintroadvisors.com
SUMMARY:Cannabis Drinks Expo Chicago
DESCRIPTION:Skip Intro Advisors’ Regulatory Consultant Jodi Green will be speaking.
URL:https://skipintroadvisors.com/event/cannabis-drinks-expo-chicago/
CATEGORIES:Conference,Speaking
END:VEVENT
BEGIN:VEVENT
DTSTART;TZID=America/Los_Angeles:20230727T090000
DTEND;TZID=America/Los_Angeles:20230727T170000
DTSTAMP:20260423T163420
CREATED:20230116T181929Z
LAST-MODIFIED:20230606T092220Z
UID:1519-1690448400-1690477200@skipintroadvisors.com
SUMMARY:Cannabis Drinks Expo SF
DESCRIPTION:Skip Intro Advisors’ Regulatory Consultant Jodi Green will be speaking.
URL:https://skipintroadvisors.com/event/cannabis-drinks-expo-sf/
CATEGORIES:Conference,Speaking
END:VEVENT
BEGIN:VEVENT
DTSTART;VALUE=DATE:20230727
DTEND;VALUE=DATE:20230730
DTSTAMP:20260423T163420
CREATED:20230628T114449Z
LAST-MODIFIED:20230628T114449Z
UID:1592-1690416000-1690675199@skipintroadvisors.com
SUMMARY:Psychedelic Awakening 2023
DESCRIPTION:Awakening 2023 is a convergence of the world’s leading experts in psychedelics. You will have the opportunity to learn from the foremost researchers\, healers\, scientists\, therapists\, practitioners\, activists\, and thought leaders. \nJoin us and celebrate the Psychedelic Renaissance! Hear from over 33 of the leading experts in the field about how psychedelics can change your mind\, change your life\, and change the world. \nJodi Green is executive director and will be speaking.
URL:https://skipintroadvisors.com/event/psychedelic-awakening-2023/
CATEGORIES:Conference,Speaking
ATTACH;FMTTYPE=image/png:https://skipintroadvisors.com/wp-content/uploads/2023/06/TPI_Logo-03-768x261-1.png
END:VEVENT
BEGIN:VEVENT
DTSTART;VALUE=DATE:20230608
DTEND;VALUE=DATE:20230609
DTSTAMP:20260423T163420
CREATED:20230116T185802Z
LAST-MODIFIED:20230606T092320Z
UID:1525-1686182400-1686268799@skipintroadvisors.com
SUMMARY:NORML Legal Conference
DESCRIPTION:Skip Intro Advisors’ CEO David Feldman will be speaking.
URL:https://skipintroadvisors.com/event/norml-legal-conference/
CATEGORIES:Conference,Speaking
END:VEVENT
BEGIN:VEVENT
DTSTART;TZID=America/New_York:20230419T110000
DTEND;TZID=America/New_York:20230419T150000
DTSTAMP:20260423T163420
CREATED:20230315T153336Z
LAST-MODIFIED:20230315T153336Z
UID:1073-1681902000-1681916400@skipintroadvisors.com
SUMMARY:Securities Transfer Association Seminar
DESCRIPTION:11:15am – 12:00pm Navigating Controversial Clients:Cannabis & PsychedelicsState and federal laws continue to vary\, and liability resides in the cross-hairs of what your client does\, where they do it\, and what suppliers they interact with. If only lack of awareness equaled exemption…(David Feldman of Feldman Legal Advisors)
URL:https://skipintroadvisors.com/event/securities-transfer-association-seminar/
CATEGORIES:Conference,Speaking
ATTACH;FMTTYPE=:
END:VEVENT
BEGIN:VEVENT
DTSTART;VALUE=DATE:20230413
DTEND;VALUE=DATE:20230414
DTSTAMP:20260423T163420
CREATED:20230116T174005Z
LAST-MODIFIED:20230606T093128Z
UID:1516-1681344000-1681430399@skipintroadvisors.com
SUMMARY:Benzinga Psychedelics Capital Conference
DESCRIPTION:Skip Intro Advisors Psychedelics and Regulatory Advisor Courtney Barnes will be speaking. Details TBA.
URL:https://skipintroadvisors.com/event/benzinga-psychedelics-capital-conference/
LOCATION:Fontainebleau Miami Beach\, 4441 Collins Ave\, Miami Beach\, FL\, 33140\, United States
CATEGORIES:Conference,Speaking
END:VEVENT
BEGIN:VEVENT
DTSTART;TZID=America/New_York:20230330T000000
DTEND;TZID=America/New_York:20230402T235959
DTSTAMP:20260423T163420
CREATED:20230116T173549Z
LAST-MODIFIED:20230116T173549Z
UID:1515-1680134400-1680479999@skipintroadvisors.com
SUMMARY:Convergence by Psychedelics Today
DESCRIPTION:Feldman Legal Advisors Counsel Courtney Barnes will be speaking and Associate Jodi Green will be in attendance. Details TBA.
URL:https://skipintroadvisors.com/event/convergence-by-psychedelics-today/
CATEGORIES:Conference,Speaking
ATTACH;FMTTYPE=:
END:VEVENT
BEGIN:VEVENT
DTSTART;TZID=America/New_York:20230301T090000
DTEND;TZID=America/New_York:20230301T093000
DTSTAMP:20260423T163420
CREATED:20230116T174853Z
LAST-MODIFIED:20230606T093311Z
UID:1518-1677661200-1677663000@skipintroadvisors.com
SUMMARY:ALM Complex Claims & Litigation Forum
DESCRIPTION:Skip Intro Advisors’ Regulatory Consultant Jodi Green will deliver the Opening Keynote: Cannabis Claims Outlook: Weeding out the Complexity in a Budding Industry. \n\n\n\nCannabis is one of the fastest growing industries\, and it is not without growing pains for insurers and litigators. Providing coverage for product liability and dispensaries comes with a unique set of risks\, and rapid regulatory changes bring challenges for cannabis litigation. This keynote will analyze cannabis claims\, and offer strategies on navigating the complexities of this green new world.
URL:https://skipintroadvisors.com/event/alm-complex-claims-litigation-forum/
CATEGORIES:Conference,Speaking
END:VEVENT
BEGIN:VEVENT
DTSTART;VALUE=DATE:20230227
DTEND;VALUE=DATE:20230228
DTSTAMP:20260423T163420
CREATED:20230116T173210Z
LAST-MODIFIED:20230606T092827Z
UID:1514-1677456000-1677542399@skipintroadvisors.com
SUMMARY:The Cannabis & Psychedelics Investment Summit
DESCRIPTION:Skip Intro Advisors CEO  David Feldman will be speaking and Psychedelics and Regulatory Advisor Courtney Barnes will be attending.
URL:https://skipintroadvisors.com/event/the-cannabis-psychedelics/
CATEGORIES:Attending,Conference,Speaking
END:VEVENT
BEGIN:VEVENT
DTSTART;VALUE=DATE:20230121
DTEND;VALUE=DATE:20230122
DTSTAMP:20260423T163420
CREATED:20230116T174456Z
LAST-MODIFIED:20230606T093255Z
UID:1517-1674259200-1674345599@skipintroadvisors.com
SUMMARY:Vital Webinar - Insuring Psychedelics
DESCRIPTION:Skip Intro Advisors’ Regulatory Consultant Jodi Green will be speaking.
URL:https://skipintroadvisors.com/event/vital-webinar-insuring-psychedelics/
CATEGORIES:Speaking
END:VEVENT
BEGIN:VEVENT
DTSTART;VALUE=DATE:20230110
DTEND;VALUE=DATE:20230112
DTSTAMP:20260423T163420
CREATED:20230116T190426Z
LAST-MODIFIED:20230606T092758Z
UID:1528-1673308800-1673481599@skipintroadvisors.com
SUMMARY:Navigating Psychedelics: For Therapists and Clinicians
DESCRIPTION:Skip Intro Advisors Psychedelics and Regulatory Advisor Courtney Barnes will be speaking.
URL:https://skipintroadvisors.com/event/navigating-psychedelics-for-therapists-and-clinicians/
CATEGORIES:Lecture,Speaking
END:VEVENT
BEGIN:VEVENT
DTSTART;VALUE=DATE:20230105
DTEND;VALUE=DATE:20230106
DTSTAMP:20260423T163420
CREATED:20230116T190718Z
LAST-MODIFIED:20230606T092748Z
UID:1529-1672876800-1672963199@skipintroadvisors.com
SUMMARY:Podcast: The Ryan Show FM
DESCRIPTION:Skip Intro Advisors Psychedelics and Regulatory Advisor Courtney Barnes will be speaking.
URL:https://skipintroadvisors.com/event/podcast-the-ryan-show-fm/
CATEGORIES:Podcast,Speaking
END:VEVENT
END:VCALENDAR