BEGIN:VCALENDAR
VERSION:2.0
PRODID:-//Skip Intro Advisors - ECPv6.15.20//NONSGML v1.0//EN
CALSCALE:GREGORIAN
METHOD:PUBLISH
X-ORIGINAL-URL:https://skipintroadvisors.com
X-WR-CALDESC:Events for Skip Intro Advisors
REFRESH-INTERVAL;VALUE=DURATION:PT1H
X-Robots-Tag:noindex
X-PUBLISHED-TTL:PT1H
BEGIN:VTIMEZONE
TZID:America/New_York
BEGIN:DAYLIGHT
TZOFFSETFROM:-0500
TZOFFSETTO:-0400
TZNAME:EDT
DTSTART:20220313T070000
END:DAYLIGHT
BEGIN:STANDARD
TZOFFSETFROM:-0400
TZOFFSETTO:-0500
TZNAME:EST
DTSTART:20221106T060000
END:STANDARD
BEGIN:DAYLIGHT
TZOFFSETFROM:-0500
TZOFFSETTO:-0400
TZNAME:EDT
DTSTART:20230312T070000
END:DAYLIGHT
BEGIN:STANDARD
TZOFFSETFROM:-0400
TZOFFSETTO:-0500
TZNAME:EST
DTSTART:20231105T060000
END:STANDARD
BEGIN:DAYLIGHT
TZOFFSETFROM:-0500
TZOFFSETTO:-0400
TZNAME:EDT
DTSTART:20240310T070000
END:DAYLIGHT
BEGIN:STANDARD
TZOFFSETFROM:-0400
TZOFFSETTO:-0500
TZNAME:EST
DTSTART:20241103T060000
END:STANDARD
END:VTIMEZONE
BEGIN:VEVENT
DTSTART;VALUE=DATE:20230411
DTEND;VALUE=DATE:20230413
DTSTAMP:20260423T190047
CREATED:20230116T183602Z
LAST-MODIFIED:20230606T092848Z
UID:1522-1681171200-1681343999@skipintroadvisors.com
SUMMARY:Benzinga Cannabis Capital Conference
DESCRIPTION:Skip Intro Advisors CEO  David Feldman will be attending.
URL:https://skipintroadvisors.com/event/benzinga-cannabiscapital-conference/
LOCATION:Fontainebleau Miami Beach\, 4441 Collins Ave\, Miami Beach\, FL\, 33140\, United States
CATEGORIES:Attending,Conference
END:VEVENT
BEGIN:VEVENT
DTSTART;VALUE=DATE:20230227
DTEND;VALUE=DATE:20230228
DTSTAMP:20260423T190047
CREATED:20230116T173210Z
LAST-MODIFIED:20230606T092827Z
UID:1514-1677456000-1677542399@skipintroadvisors.com
SUMMARY:The Cannabis & Psychedelics Investment Summit
DESCRIPTION:Skip Intro Advisors CEO  David Feldman will be speaking and Psychedelics and Regulatory Advisor Courtney Barnes will be attending.
URL:https://skipintroadvisors.com/event/the-cannabis-psychedelics/
LOCATION:FL
CATEGORIES:Attending,Conference,Speaking
END:VEVENT
BEGIN:VEVENT
DTSTART;TZID=America/New_York:20230125T170000
DTEND;TZID=America/New_York:20230125T183000
DTSTAMP:20260423T190047
CREATED:20230116T190045Z
LAST-MODIFIED:20230606T093413Z
UID:1526-1674666000-1674671400@skipintroadvisors.com
SUMMARY:CRISPR: Patent Disputes and Licensing Challenges
DESCRIPTION:Counsel Gretchen Temeles of Skip Intro Advisors’ partner agency Feldman Legal Advisors will be attending.
URL:https://skipintroadvisors.com/event/crispr-patent-disputes-and-licensing-challenges/
LOCATION:FL
CATEGORIES:Attending,Panel
END:VEVENT
END:VCALENDAR